BEGIN:VCALENDAR
VERSION:2.0
PRODID:-//Library Market//iCal Export//EN
BEGIN:VEVENT
SUMMARY:Wildlife Encounters
UID:2979
DTSTAMP:20260419T172800Z
DTSTART:20260528T153000Z
DTEND:20260528T161500Z
LOCATION:Ashland Public Library, 1324 Silver St, Ashland, NE 68003, United
  States
ROOM: Full Meeting Room
DESCRIPTION:
URL:https://ashlandne.librarycalendar.com/event/wildlife-encounters-2979
END:VEVENT
END:VCALENDAR
